BEGIN:VCALENDAR
VERSION:2.0
PRODID:-//Freiwillige Feuerwehr Klein-Krotzenburg - ECPv6.15.20//NONSGML v1.0//EN
CALSCALE:GREGORIAN
METHOD:PUBLISH
X-ORIGINAL-URL:https://wp.ffkkb.de
X-WR-CALDESC:Veranstaltungen für Freiwillige Feuerwehr Klein-Krotzenburg
REFRESH-INTERVAL;VALUE=DURATION:PT1H
X-Robots-Tag:noindex
X-PUBLISHED-TTL:PT1H
BEGIN:VTIMEZONE
TZID:Europe/Berlin
BEGIN:DAYLIGHT
TZOFFSETFROM:+0100
TZOFFSETTO:+0200
TZNAME:CEST
DTSTART:20240331T010000
END:DAYLIGHT
BEGIN:STANDARD
TZOFFSETFROM:+0200
TZOFFSETTO:+0100
TZNAME:CET
DTSTART:20241027T010000
END:STANDARD
BEGIN:DAYLIGHT
TZOFFSETFROM:+0100
TZOFFSETTO:+0200
TZNAME:CEST
DTSTART:20250330T010000
END:DAYLIGHT
BEGIN:STANDARD
TZOFFSETFROM:+0200
TZOFFSETTO:+0100
TZNAME:CET
DTSTART:20251026T010000
END:STANDARD
BEGIN:DAYLIGHT
TZOFFSETFROM:+0100
TZOFFSETTO:+0200
TZNAME:CEST
DTSTART:20260329T010000
END:DAYLIGHT
BEGIN:STANDARD
TZOFFSETFROM:+0200
TZOFFSETTO:+0100
TZNAME:CET
DTSTART:20261025T010000
END:STANDARD
END:VTIMEZONE
BEGIN:VEVENT
DTSTART;TZID=Europe/Berlin:20250116T193000
DTEND;TZID=Europe/Berlin:20250116T213000
DTSTAMP:20260419T223539
CREATED:20240721T124454Z
LAST-MODIFIED:20241225T175955Z
UID:3614-1737055800-1737063000@wp.ffkkb.de
SUMMARY:1. Übung der Aktiven 2025
DESCRIPTION:Jetzt gehen die regelmäßigen\, wöchentlichen Übungen der Einsatzabteilung wieder los.
URL:https://wp.ffkkb.de/veranstaltungen/uebung-einsatzabteilung/
LOCATION:Feuerwehrhaus\, Kirchstraße 61\, Hainburg\, 63512\, Germany
CATEGORIES:Übung
ATTACH;FMTTYPE=image/jpeg:https://wp.ffkkb.de/wp-content/uploads/2024/11/2024_09_12_th-ausbildung06.jpg
END:VEVENT
END:VCALENDAR